BEGIN:VCALENDAR
VERSION:2.0
PRODID:-//MMA Wilayah Persekutuan - ECPv6.15.20//NONSGML v1.0//EN
CALSCALE:GREGORIAN
METHOD:PUBLISH
X-WR-CALNAME:MMA Wilayah Persekutuan
X-ORIGINAL-URL:https://mmawilayah.org.my
X-WR-CALDESC:Events for MMA Wilayah Persekutuan
REFRESH-INTERVAL;VALUE=DURATION:PT1H
X-Robots-Tag:noindex
X-PUBLISHED-TTL:PT1H
BEGIN:VTIMEZONE
TZID:Asia/Kuala_Lumpur
BEGIN:STANDARD
TZOFFSETFROM:+0800
TZOFFSETTO:+0800
TZNAME:+08
DTSTART:20210101T000000
END:STANDARD
END:VTIMEZONE
BEGIN:VEVENT
DTSTART;TZID=Asia/Kuala_Lumpur:20260207T090000
DTEND;TZID=Asia/Kuala_Lumpur:20260207T130000
DTSTAMP:20260421T061027
CREATED:20260126T021200Z
LAST-MODIFIED:20260126T021200Z
UID:57660-1770454800-1770469200@mmawilayah.org.my
SUMMARY:Fellowship Interstate Pickleball Tournament
DESCRIPTION:🏓 Fellowship Interstate Pickleball Tournament (MMA) \nWarm greetings from MMA Wilayah Persekutuan (WP) 😊 \nOn behalf of MMA Negeri Sembilan\, we are pleased to invite MMA members from MMA Wilayah Persekutuan (WP) to participate in the Fellowship Interstate Pickleball Tournament. This tournament is organised to strengthen camaraderie\, promote fellowship\, and encourage a healthy and active lifestyle among MMA members. \n📌 Event Details\n🗓 Date: 7 February 2026 (Saturday)\n⏰ Time: 9.00 AM – 1.00 PM\n📍 Venue: Xpark Pickleball Court\, Bandar Sri Sendayan \n👥 Participation Details\n* Each state is allowed TWO (2) teams\n* Team composition (per team):\n– Men’s Doubles\n– Women’s Doubles\n– Mixed Doubles\n* Participation is strictly for registered MMA members \n🏆 Tournament Format\n* One (1) set game only\n* Played to 11 points\, win by 2 points \nFurther details on the itinerary and registration process will be shared upon confirmation of participation. \nWe warmly encourage our members to take part in this exciting inter-branch fellowship event and join our colleagues from other states for a fun-filled morning of friendly competition and bonding 🏓🤝 \nFor more info please call / WhatsApp\n019 8877 925 (MMA Wilayah) \nWarm regards\,\nMMA Wilayah Persekutuan
URL:https://mmawilayah.org.my/event/fellowship-interstate-pickleball-tournament/
LOCATION:X Park Sendayan\, Jalan Pusat Dagangan Sendayan 1\,\, Bandar Sri Sendayan\,\, Seremban\, Negeri Sembilan\, 71950\, Malaysia
CATEGORIES:Sports
ORGANIZER;CN="MMA Wilayah Persekutuan":MAILTO:mmawilayah@yahoo.com
END:VEVENT
BEGIN:VEVENT
DTSTART;VALUE=DATE:20240307
DTEND;VALUE=DATE:20240311
DTSTAMP:20260421T061027
CREATED:20231229T103514Z
LAST-MODIFIED:20240130T112135Z
UID:56078-1709769600-1710115199@mmawilayah.org.my
SUMMARY:MMA Wilayah Cross Border Convoy Motorcade Kuala Lumpur to Hat Yai
DESCRIPTION:Greetings! \nThe MMA Wilayah Cross Border Convoy Motorcade Kuala Lumpur to Hat Yai\, Thailand will take place on 7 March 2024\, returning on 10 March 2024. \nThis journey will be carrying VIPs – that’s us and our family members and friends at a regulated speed limit in a convoy formation. \nSign up for this 1st ever type of event in the history of MMA Wilayah! \nMMA Wilayah members\, including spouse and children are accorded special subsidised rate of \n  \nRM700 per person. \n  \nRegister your places now for this adventure!! \nhttps://forms.gle/Vp5Tuyu4i1DWDgZA8 \n  \nBest regards \nDr Manohar Bendiah\nChairman\, Sports Committee\nMMA Wilayah Persekutuan \n  \n  \n \n \n \n 
URL:https://mmawilayah.org.my/event/cross-border-convoy-motorcade-kuala-lumpur-to-hat-yai/
LOCATION:Hat Yai\, Thailand
CATEGORIES:CME / CPD,Sports
ORGANIZER;CN="MMA Wilayah Persekutuan":MAILTO:mmawilayah@yahoo.com
END:VEVENT
BEGIN:VEVENT
DTSTART;VALUE=DATE:20230729
DTEND;VALUE=DATE:20230731
DTSTAMP:20260421T061027
CREATED:20230622T145718Z
LAST-MODIFIED:20230705T142458Z
UID:55791-1690588800-1690761599@mmawilayah.org.my
SUMMARY:Tri-State Treasure Hunt to Melaka
DESCRIPTION:Dear Members\, \nJoin us in the Tri-State Treasure Hunt to Melaka on 29 – 30 July 2023.  Organized by MMA Wilayah/Selangor/Negeri Sembilan\, this is a great opportunity for fun and fellowship plus prizes to be won! \n\nMMA Tri-State Members (MMA Wilayah/Selangor/Negeri Sembilan) including family members  : RM350 per person\nOther state MMA Members & Non-members : RM500 per person\n\n  \nPayment to be made to: \n\nMalaysian Medical Association Wilayah Persekutuan\nCIMB Account: 8009934726\nPayment advice to be sent by Whatsapp to Majmin at 017-8821680\n\n  \n  \nFor registration\, please complete the google form:- \nhttps://forms.gle/mr43BWCUuzoZBB3L9 \n  \nKindly go through the Itinerary for further details. \nLook forward to your participation! \n  \nCol Dr Gnanamalar Gnanasundram \nHon Secretary 2022/2023 \nMMA Wilayah Persekutuan \nWebsite: https://mmawilayah.org.my \n  \nPDF Poster \nPDF Itinerary
URL:https://mmawilayah.org.my/event/tri-state-treasure-hunt-to-melaka/
LOCATION:Melaka
CATEGORIES:Sports
END:VEVENT
BEGIN:VEVENT
DTSTART;VALUE=DATE:20230624
DTEND;VALUE=DATE:20230625
DTSTAMP:20260421T061027
CREATED:20230527T031840Z
LAST-MODIFIED:20230527T031840Z
UID:55771-1687564800-1687651199@mmawilayah.org.my
SUMMARY:Family Day Trip To Kuala Selangor
DESCRIPTION:Dear Members\, \nFAMILY DAY TRIP TO KUALA SELANGOR – 24 JUNE 2023 \n  \nMMAWP are organizing some exciting activities for its members.  We and our neighbouring states\, Selangor and Negri Sembilan\, have formed Tri-State activities for members to benefit and to promote fellowship. The activities are open to other state MMA members as well.  Please support and participate in the events. \n  \nEnclosed is the invitation flyer for the 1st Tri-State event – Family Day Trip to Kuala Selangor\, as well as the Itinerary. \n  \nFor further info/registration/on-line payment\, please click this link: \nhttps://www.mmaselangor.com/tri-state-family-day \n  \nLooking forward to seeing you! \nThank you. \nCol Dr Gnanamalar Gnanasundram \nHonorary Secretary\, MMA Wilayah Persekutuan \n 
URL:https://mmawilayah.org.my/event/family-day-trip-to-kuala-selangor/
LOCATION:Kuala Selangor
CATEGORIES:Sports
ORGANIZER;CN="MMA Wilayah Persekutuan":MAILTO:mmawilayah@yahoo.com
END:VEVENT
BEGIN:VEVENT
DTSTART;VALUE=DATE:20220806
DTEND;VALUE=DATE:20220807
DTSTAMP:20260421T061027
CREATED:20220424T190748Z
LAST-MODIFIED:20220614T132247Z
UID:54715-1659744000-1659830399@mmawilayah.org.my
SUMMARY:MMA Golf Challenge Trophy 2022
DESCRIPTION:[vc_row][vc_column][vc_column_text][/vc_column_text][/vc_column][/vc_row][vc_row][vc_column][vc_empty_space][vc_column_text]Closing date 30/7/2022[/vc_column_text][vc_empty_space][/vc_column][/vc_row][vc_row][vc_column][/vc_column][/vc_row]
URL:https://mmawilayah.org.my/event/mma-golf-challenge-trophy-2022/
LOCATION:Nilai Springs Golf and Country Club\, Nilai\, Malaysia
CATEGORIES:Sports
ATTACH;FMTTYPE=image/jpeg:https://mmawilayah.org.my/wp-content/uploads/2022/06/golf-thumb-1.jpg
ORGANIZER;CN="MMA Wilayah Persekutuan":MAILTO:mmawilayah@yahoo.com
END:VEVENT
END:VCALENDAR