BEGIN:VCALENDAR
VERSION:2.0
PRODID:-//MMA Wilayah Persekutuan - ECPv6.15.20//NONSGML v1.0//EN
CALSCALE:GREGORIAN
METHOD:PUBLISH
X-ORIGINAL-URL:https://mmawilayah.org.my
X-WR-CALDESC:Events for MMA Wilayah Persekutuan
REFRESH-INTERVAL;VALUE=DURATION:PT1H
X-Robots-Tag:noindex
X-PUBLISHED-TTL:PT1H
BEGIN:VTIMEZONE
TZID:Asia/Kuala_Lumpur
BEGIN:STANDARD
TZOFFSETFROM:+0800
TZOFFSETTO:+0800
TZNAME:+08
DTSTART:20240101T000000
END:STANDARD
END:VTIMEZONE
BEGIN:VEVENT
DTSTART;TZID=Asia/Kuala_Lumpur:20250705T100000
DTEND;TZID=Asia/Kuala_Lumpur:20250705T160000
DTSTAMP:20260421T075601
CREATED:20250626T064234Z
LAST-MODIFIED:20250626T064234Z
UID:57305-1751709600-1751731200@mmawilayah.org.my
SUMMARY:MMA Wilayah Blood Donation Drive 2025
DESCRIPTION:MMA Wilayah in collaboration with Pusat Darah Negara (PDN) and Aeon Mall will be organising its annual blood donation drive. \n🗓️ 5th of July 2025\, Saturday\n🕰️ 10am-4pm\n🏬 Level 1\, Aeon Metro Prima\, Kepong. \nIC/PASSPORT WILL BE REQUIRED FOR REGISTRATION \nPlease join us with your friends and family to make this event successful. \n” Donate Blood and Save A Life” \n  \nLocation: Aeon Metro Prima (Click) \n 
URL:https://mmawilayah.org.my/event/mma-wilayah-blood-donation-drive-2025/
LOCATION:Aeon Metro Prima\, Kepong\, Kepong\, Malaysia
CATEGORIES:Notice
ORGANIZER;CN="MMA Wilayah Persekutuan":MAILTO:mmawilayah@yahoo.com
END:VEVENT
END:VCALENDAR