BEGIN:VCALENDAR
VERSION:2.0
PRODID:-//MMA Wilayah Persekutuan - ECPv6.15.20//NONSGML v1.0//EN
CALSCALE:GREGORIAN
METHOD:PUBLISH
X-WR-CALNAME:MMA Wilayah Persekutuan
X-ORIGINAL-URL:https://mmawilayah.org.my
X-WR-CALDESC:Events for MMA Wilayah Persekutuan
REFRESH-INTERVAL;VALUE=DURATION:PT1H
X-Robots-Tag:noindex
X-PUBLISHED-TTL:PT1H
BEGIN:VTIMEZONE
TZID:Asia/Kuala_Lumpur
BEGIN:STANDARD
TZOFFSETFROM:+0800
TZOFFSETTO:+0800
TZNAME:+08
DTSTART:20230101T000000
END:STANDARD
END:VTIMEZONE
BEGIN:VEVENT
DTSTART;TZID=Asia/Kuala_Lumpur:20240519T110000
DTEND;TZID=Asia/Kuala_Lumpur:20240519T160000
DTSTAMP:20260422T065318
CREATED:20240515T064006Z
LAST-MODIFIED:20240515T064006Z
UID:56427-1716116400-1716134400@mmawilayah.org.my
SUMMARY:MMA Wilayah Blood Donation Drive
DESCRIPTION:MMA Wilayah will be organising its annual blood donation drive on 19th of May 2024 between 9am-3pm at Sungai Mas Plaza Kuala Lumpur. \nWe are targeting 80 units of blood this year. Please join us to make this event successfully. \nRegards\,\nDr Eratha Krishnan\nHonorary Secretary\nMMA Wilayah Persekutuan
URL:https://mmawilayah.org.my/event/mma-wilayah-blood-donation-drive/
LOCATION:Sungai Mas Plaza\, Jalan Ipoh\, Sungai Mas Plaza\, Jalan Ipoh
CATEGORIES:Notice
ORGANIZER;CN="MMA Wilayah Persekutuan":MAILTO:mmawilayah@yahoo.com
END:VEVENT
END:VCALENDAR