BEGIN:VCALENDAR
VERSION:2.0
PRODID:-//MMA Wilayah Persekutuan - ECPv6.15.20//NONSGML v1.0//EN
CALSCALE:GREGORIAN
METHOD:PUBLISH
X-ORIGINAL-URL:https://mmawilayah.org.my
X-WR-CALDESC:Events for MMA Wilayah Persekutuan
REFRESH-INTERVAL;VALUE=DURATION:PT1H
X-Robots-Tag:noindex
X-PUBLISHED-TTL:PT1H
BEGIN:VTIMEZONE
TZID:Asia/Kuala_Lumpur
BEGIN:STANDARD
TZOFFSETFROM:+0800
TZOFFSETTO:+0800
TZNAME:+08
DTSTART:20240101T000000
END:STANDARD
END:VTIMEZONE
BEGIN:VEVENT
DTSTART;TZID=Asia/Kuala_Lumpur:20251220T183000
DTEND;TZID=Asia/Kuala_Lumpur:20251220T230000
DTSTAMP:20260422T175438
CREATED:20251016T043651Z
LAST-MODIFIED:20251120T090815Z
UID:57406-1766255400-1766271600@mmawilayah.org.my
SUMMARY:MMA Wilayah Annual Dinner & Comradeship 2025
DESCRIPTION:Dear Members\, \nWarm greetings from MMA Wilayah Persekutuan Branch. \nWe are pleased to invite you to our upcoming MMA Wilayah Annual Dinner & Comradeship 2025 — an evening dedicated to appreciation\, connection\, and camaraderie. \nEvent Details:\nDate: Saturday\, 20th December 2025\nTime: 6:30 PM\nVenue: Courtyard by Marriott Kuala Lumpur South\nRate: RM150 per pax (Buy Now) \nYou may scan the QR code in the poster below to register your attendance or click the link below \n  \nFor table purchases or further information\, kindly get in touch with us at mmawilayah@yahoo.com\nor WhatsApp 019-8877 925. \nWe look forward to celebrating this special evening with you.
URL:https://mmawilayah.org.my/event/annual-dinner-2026/
LOCATION:Courtyard by Marriott – Kuala Lumpur South\, 137\, Jalan Puchong\, Kuala Lumpur\, 58200\, Malaysia
CATEGORIES:Meetings
ORGANIZER;CN="MMA Wilayah Persekutuan":MAILTO:mmawilayah@yahoo.com
END:VEVENT
END:VCALENDAR