BEGIN:VCALENDAR
VERSION:2.0
PRODID:-//MMA Wilayah Persekutuan - ECPv6.15.20//NONSGML v1.0//EN
CALSCALE:GREGORIAN
METHOD:PUBLISH
X-ORIGINAL-URL:https://mmawilayah.org.my
X-WR-CALDESC:Events for MMA Wilayah Persekutuan
REFRESH-INTERVAL;VALUE=DURATION:PT1H
X-Robots-Tag:noindex
X-PUBLISHED-TTL:PT1H
BEGIN:VTIMEZONE
TZID:Asia/Kuala_Lumpur
BEGIN:STANDARD
TZOFFSETFROM:+0800
TZOFFSETTO:+0800
TZNAME:+08
DTSTART:20220101T000000
END:STANDARD
END:VTIMEZONE
BEGIN:VEVENT
DTSTART;TZID=Asia/Kuala_Lumpur:20231104T183000
DTEND;TZID=Asia/Kuala_Lumpur:20231104T233000
DTSTAMP:20260424T121019
CREATED:20230919T161417Z
LAST-MODIFIED:20230919T161417Z
UID:55946-1699122600-1699140600@mmawilayah.org.my
SUMMARY:Annual Dinner and Installation Night 2023
DESCRIPTION:Dear members\, \nCordially invites you to our \n  \nANNUAL DINNER & INSTALLATION NIGHT 2023 \n  \n\nDate : 4th November 2023\nTime : 6.30 pm to 11.30 pm\nVenue : The Vertical\, Connexion Conference & Event Centre\nThe Summit (Level M1)\, Bangsar South City\nCost : RM 150.00 per person\nDress Code : Men – Formal / Batik\nWomen – Formal / Smart Evening Wear\n\n  \nRSVP by 20th October 2023 via  \nhttps://docs.google.com/forms/d/e/1FAIpQLSdrMHGyAAtdD1txdD1R8sBhJ0_GSYlCxJhHUNcS9UsAo4Co7g/viewform?usp=pp_url \n  \n\nEnquiries : Johnny – 012-238 3063\nMajmin – 017-882 1680\nPayment : Bank into CIMB Bank Account No. 8009934726\n\n  \nOrganised by: MMA Wilayah Committee 2023/2024
URL:https://mmawilayah.org.my/event/annual-dinner-and-installation-night-2023/
LOCATION:The Vertical Bangsar South\, Jalan Pantai Permai\, Pantai Dalam\,\, Kuala Lumpur\, Wilayah Persekutuan\, 59200\, Malaysia
CATEGORIES:Meetings
ORGANIZER;CN="MMA Wilayah Persekutuan":MAILTO:mmawilayah@yahoo.com
END:VEVENT
END:VCALENDAR