BEGIN:VCALENDAR
VERSION:2.0
PRODID:-//MMA Wilayah Persekutuan - ECPv6.15.20//NONSGML v1.0//EN
CALSCALE:GREGORIAN
METHOD:PUBLISH
X-WR-CALNAME:MMA Wilayah Persekutuan
X-ORIGINAL-URL:https://mmawilayah.org.my
X-WR-CALDESC:Events for MMA Wilayah Persekutuan
REFRESH-INTERVAL;VALUE=DURATION:PT1H
X-Robots-Tag:noindex
X-PUBLISHED-TTL:PT1H
BEGIN:VTIMEZONE
TZID:Asia/Kuala_Lumpur
BEGIN:STANDARD
TZOFFSETFROM:+0800
TZOFFSETTO:+0800
TZNAME:+08
DTSTART:20250101T000000
END:STANDARD
END:VTIMEZONE
BEGIN:VEVENT
DTSTART;TZID=Asia/Kuala_Lumpur:20260420T200000
DTEND;TZID=Asia/Kuala_Lumpur:20260420T213000
DTSTAMP:20260420T231855
CREATED:20260416T034222Z
LAST-MODIFIED:20260416T034222Z
UID:57748-1776715200-1776720600@mmawilayah.org.my
SUMMARY:Red Eye Uncovered: From Benign to Blinding
DESCRIPTION:Dear Dr\, \nWe are pleased to share the upcoming webinar organised by MMA Wilayah Persekutuan Branch for your kind attention. \nEvent details are as follows: \nTitle: Red Eye Uncovered: From Benign to Blinding\nDate: 20 April 2026 (Monday)\nTime: 8:00 PM – 9:30 PM\nCPD Points: 1 Point Awarded \nSpeaker:\nDr Aliyya Bt Badaruddin\nPakar Oftalmologi U14\nHospital Shah Alam Seksyen 7 \nModerator:\nDr Norasrina Ishak\nCommittee Member\, MMA Wilayah \nThis webinar aims to provide valuable insights into the evaluation and management of red eye conditions\, ranging from benign to potentially sight-threatening cases. \nYou may register by scanning the QR code in the attached flyer or by clicking the link below:\nhttps://us06web.zoom.us/webinar/register/WN_WuIci-nDTx2Dh2JYyxEUaA \nShould you require further information\, please do not hesitate to contact us at mmawilayah@yahoo.com\nor 019-8877925. \nThank you and we look forward to your participation. \nWarm regards\,\nMMA Wilayah Persekutuan Branch \n 
URL:https://mmawilayah.org.my/event/red-eye-uncovered-from-benign-to-blinding/
LOCATION:Webinar (live online)\, Selangor\, Malaysia
CATEGORIES:CME / CPD
ORGANIZER;CN="MMA Wilayah Persekutuan":MAILTO:mmawilayah@yahoo.com
END:VEVENT
END:VCALENDAR